BEGIN:VCALENDAR
VERSION:2.0
PRODID:-//transportevolutionwestafrica.bitkit.dk//NONSGML Transport Evolution West Africa//EN
METHOD:REQUEST
BEGIN:VEVENT
UID:20260421T165850-570085855-calendar_event
DTSTAMP:20260421T165850Z
DTSTART:20240605T110000
DTEND:20241007T190000
LOCATION:Accra, Ghana
SUMMARY:Transport Evolution West Africa
DESCRIPTION:Transport Evolution West Africa is a highly anticipated and transformative transport event taking place in Ghana, co-located with the esteemed WAMPEX (West African Mining & Power Exhibition). With a focus on revolutionizing the transport industry in the region, the event is set to become the ultimate platform for innovation, collaboration, and expertise. Attendees will have the opportunity to explore an exhibition zone, featuring the latest advancements in transport solutions, equipment, technologies, and services from leading global companies. The event’s dynamic conference sessions will bring together industry experts, thought leaders, and policymakers to engage in insightful discussions on crucial topics.
BEGIN:VALARM
TRIGGER:PT1W
ACTION:DISPLAY
DESCRIPTION:Reminder
END:VALARM
END:VEVENT
END:VCALENDAR
